BEGIN:VCALENDAR
VERSION:2.0
PRODID:-//Queensland College of Wine Tourism - ECPv5.0.2.1//NONSGML v1.0//EN
CALSCALE:GREGORIAN
METHOD:PUBLISH
X-WR-CALNAME:Queensland College of Wine Tourism
X-ORIGINAL-URL:https://qcwt.com.au
X-WR-CALDESC:Events for Queensland College of Wine Tourism
BEGIN:VTIMEZONE
TZID:Australia/Brisbane
BEGIN:STANDARD
TZOFFSETFROM:+1000
TZOFFSETTO:+1000
TZNAME:AEST
DTSTART:20190101T000000
END:STANDARD
END:VTIMEZONE
BEGIN:VEVENT
DTSTART;TZID=Australia/Brisbane:20190502T090000
DTEND;TZID=Australia/Brisbane:20190502T163000
DTSTAMP:20200301T225917
CREATED:20190108T043647Z
LAST-MODIFIED:20190108T043925Z
UID:15637-1556787600-1556814600@qcwt.com.au
SUMMARY:Espresso Coffee
DESCRIPTION:This hands on course covers the essential skills and knowledge needed to make good barista coffee and includes: \nSITHFAB005 Prepare and serve espresso coffee \nSITXFSA001 Use hygienic practices for food safety \n  \nThe additional 3 days of this course are 8 – 10 May 2019. \nUpon the successful completion of this course students will receive a nationally recognised Statement of Attainment – SITSS00050 Food Handling and a Record of Results for the Prepare and Serve espresso Coffee. \n
URL:https://qcwt.com.au/event/espresso-coffee-may-2019/
LOCATION:QCWT\, 22 Caves Road\, Stanthorpe\, Qld\, 4380\, Australia
CATEGORIES:Gateway,QCWT
ATTACH;FMTTYPE=image/jpeg:https://qcwt.com.au/wp-content/uploads/Advanced-Barista.jpg
END:VEVENT
END:VCALENDAR