BEGIN:VCALENDAR
VERSION:2.0
PRODID:-//Queensland College of Wine Tourism - ECPv5.0.2.1//NONSGML v1.0//EN
CALSCALE:GREGORIAN
METHOD:PUBLISH
X-WR-CALNAME:Queensland College of Wine Tourism
X-ORIGINAL-URL:https://qcwt.com.au
X-WR-CALDESC:Events for Queensland College of Wine Tourism
BEGIN:VTIMEZONE
TZID:Australia/Brisbane
BEGIN:STANDARD
TZOFFSETFROM:+1000
TZOFFSETTO:+1000
TZNAME:AEST
DTSTART:20190101T000000
END:STANDARD
END:VTIMEZONE
BEGIN:VEVENT
DTSTART;TZID=Australia/Brisbane:20190502T090000
DTEND;TZID=Australia/Brisbane:20190502T120000
DTSTAMP:20200301T225848
CREATED:20180207T032033Z
LAST-MODIFIED:20190108T040707Z
UID:15092-1556787600-1556798400@qcwt.com.au
SUMMARY:SITSS00050 Food Handling
DESCRIPTION:This course is for people handling food in a café\, restaurant\, school canteen\, hotel\, supermarkets\, fast food outlet\, sandwich shop\, catering operations or other food retail outlets\, under supervision. \nUpon the successful completion of this course students will receive a nationally recognised Statement of Attainment – SITSS00050 Food Handling. \n  \n
URL:https://qcwt.com.au/event/food-handling-may-2019/
LOCATION:QCWT\, 22 Caves Road\, Stanthorpe\, Qld\, 4380\, Australia
CATEGORIES:Gateway,QCWT
ATTACH;FMTTYPE=image/jpeg:https://qcwt.com.au/wp-content/uploads/Banner-Home-5.jpg
END:VEVENT
END:VCALENDAR