BEGIN:VCALENDAR
VERSION:2.0
PRODID:-//Queensland College of Wine Tourism - ECPv5.0.2.1//NONSGML v1.0//EN
CALSCALE:GREGORIAN
METHOD:PUBLISH
X-WR-CALNAME:Queensland College of Wine Tourism
X-ORIGINAL-URL:https://qcwt.com.au
X-WR-CALDESC:Events for Queensland College of Wine Tourism
BEGIN:VTIMEZONE
TZID:Australia/Brisbane
BEGIN:STANDARD
TZOFFSETFROM:+1000
TZOFFSETTO:+1000
TZNAME:AEST
DTSTART:20190101T000000
END:STANDARD
END:VTIMEZONE
BEGIN:VEVENT
DTSTART;TZID=Australia/Brisbane:20190314T090000
DTEND;TZID=Australia/Brisbane:20190314T163000
DTSTAMP:20200301T225401
CREATED:20190108T032406Z
LAST-MODIFIED:20190108T032427Z
UID:15631-1552554000-1552581000@qcwt.com.au
SUMMARY:SITSS00051 Food Safety Supervision
DESCRIPTION:Get a handle on food safety planning and critical control points. \nLearn how to identify hazards\, make corrective actions and implement operational policies and procedures. \nPeople at many levels use these skills in the workplace during the course of their daily activities\, including cooks\, chefs\, caterers\, kitchen stewards\, kitchen hands\, bar\, food and beverage attendants and sometimes room attendants and front office staff. \nUpon the successful completion of this course students will receive a nationally recognised Statement of Attainment – SITSS00051 Food Safety Supervision. \n
URL:https://qcwt.com.au/event/food-safety-supervision-march-2019/
LOCATION:QCWT\, 22 Caves Road\, Stanthorpe\, Qld\, 4380\, Australia
CATEGORIES:Gateway,QCWT
ATTACH;FMTTYPE=image/jpeg:https://qcwt.com.au/wp-content/uploads/Ash.jpg
END:VEVENT
END:VCALENDAR