BEGIN:VCALENDAR
VERSION:2.0
PRODID:-//Queensland College of Wine Tourism - ECPv5.0.2.1//NONSGML v1.0//EN
CALSCALE:GREGORIAN
METHOD:PUBLISH
X-WR-CALNAME:Queensland College of Wine Tourism
X-ORIGINAL-URL:https://qcwt.com.au
X-WR-CALDESC:Events for Queensland College of Wine Tourism
BEGIN:VTIMEZONE
TZID:Australia/Brisbane
BEGIN:STANDARD
TZOFFSETFROM:+1000
TZOFFSETTO:+1000
TZNAME:AEST
DTSTART:20190101T000000
END:STANDARD
END:VTIMEZONE
BEGIN:VEVENT
DTSTART;TZID=Australia/Brisbane:20190319T090000
DTEND;TZID=Australia/Brisbane:20190319T150000
DTSTAMP:20200301T225433
CREATED:20180207T040418Z
LAST-MODIFIED:20190311T034404Z
UID:15103-1552986000-1553007600@qcwt.com.au
SUMMARY:SITSS00055  Responsible Service of Alcohol (RSA)
DESCRIPTION:This Responsible Service of Alcohol course covers the skill and knowledge requirements common to all States and Territories for RSA. Some legislative requirements and knowledge will differ across borders\, however you will learn to: \n\nUnderstand your obligations under the law\nIdentify customers to whom alcohol service may be refused\nResponsibly assist customers to drink within appropriate limits\nAssist alcohol affected customers\nRefuse service to customers in a professional manner\n\nUpon the successful completion of this course students will receive a nationally recognised Statement of Attainment – SITSS00055 Responsible Service of Alcohol. \n
URL:https://qcwt.com.au/event/responsible-service-of-alcohol-rsa-march-2019/
LOCATION:QCWT\, 22 Caves Road\, Stanthorpe\, Qld\, 4380\, Australia
CATEGORIES:Gateway,QCWT
ATTACH;FMTTYPE=image/jpeg:https://qcwt.com.au/wp-content/uploads/Kim.jpg
END:VEVENT
END:VCALENDAR