BEGIN:VCALENDAR
VERSION:2.0
PRODID:-//Queensland College of Wine Tourism - ECPv5.4.0//NONSGML v1.0//EN
CALSCALE:GREGORIAN
METHOD:PUBLISH
X-WR-CALNAME:Queensland College of Wine Tourism
X-ORIGINAL-URL:https://qcwt.com.au
X-WR-CALDESC:Events for Queensland College of Wine Tourism
BEGIN:VTIMEZONE
TZID:Australia/Brisbane
BEGIN:STANDARD
TZOFFSETFROM:+1000
TZOFFSETTO:+1000
TZNAME:AEST
DTSTART:20210101T000000
END:STANDARD
END:VTIMEZONE
BEGIN:VEVENT
DTSTART;TZID=Australia/Brisbane:20210327T090000
DTEND;TZID=Australia/Brisbane:20210328T150000
DTSTAMP:20210225T152614
CREATED:20180626T043307Z
LAST-MODIFIED:20200714T041952Z
UID:15399-1616835600-1616943600@qcwt.com.au
SUMMARY:Winemaker for a Weekend
DESCRIPTION:Food and wine lovers will delight in Queensland College of Wine Tourism’s ‘Winemaker for a Weekend’ program\, where two glorious days are spent in Queensland’s premier wine region experiencing the wine making process\, hands-on\, interspersed with informative master classes and a sensational food and wine experience.\nFrom hand picking the grapes\, to crushing and pressing process\, preparation\, fermentation and the inoculation of the juice\, participants discover so much more about ‘the finer things in life’ as they participate in the production of their very own wine. \nWith many indulgences in between\, including delightful lunches and incredible banquet style evening meal with matching wines\, guests are assured of a wonderful weekend to remember. As a recent participant of the Winemaker for a Weekend commented\, ‘I just loved it and without exaggeration\, it is one of the best weekends of my life’. \nAs the bottling and labelling process awaits later in the season\, guests are invited to return for an additional weekend to take part in the exciting finale\, be part of an expert food and wine matching masterclass as well as a professional wine masterclass and take home a half case of their very own wine\, complete with customised label! \nFor a weekend with a difference\, great company\, genuine hospitality and sheer enthusiasm for food and wine\, you really must experience the Queensland College of Wine Tourism’s ‘Winemaker for a Weekend’ program. \nAs there are limited numbers of weekends during vintage\, early bookings are advised. For all enquiries\, please contact our Campus Manager on 07 4685 5050 or email Chrissy Mattiazzi.
URL:https://qcwt.com.au/event/winemaker-for-a-weekend-mar-2021/
LOCATION:QCWT\, 22 Caves Road\, Stanthorpe\, Qld\, 4380\, Australia
CATEGORIES:Gateway,QCWT
ATTACH;FMTTYPE=image/jpeg:https://qcwt.com.au/wp-content/uploads/W4W-01.jpg
ORGANIZER;CN="Chrissy%20Mattiazzi":MAILTO:chrissy.mattiazzi@usq.edu.au
END:VEVENT
BEGIN:VEVENT
DTSTART;TZID=Australia/Brisbane:20210329T083000
DTEND;TZID=Australia/Brisbane:20210331T163000
DTSTAMP:20210225T152614
CREATED:20210201T045017Z
LAST-MODIFIED:20210201T045109Z
UID:16644-1617006600-1617208200@qcwt.com.au
SUMMARY:Wine & Spirit Education Trust WSET Level 2
DESCRIPTION:Do you want to take your wine knowledge to the next level?  The WSET Level 2 Award in Wines and Spirits qualification provides an industry standard introduction to the main styles of wines available to front-line staff involved in the service or sale of wine.  This qualification aims to provide the product knowledge and skills in the storage and service of wines required to prepare a person for employment in wine hospitality or retail. \nThis qualification is recognized internationally in over 55 countries.  Course topics include: \n\nFactors influencing style\nGrape varieties\nKey wine producing regions of the world\nSparkling wines\nSweet wines and fortified wines\nSpirits & liqueurs\nInformation & advice for customers & staff\nDescribing the characteristics of the principal wines of the world\n\nPlease note the cut off date for this course is 5 March 2021.
URL:https://qcwt.com.au/event/wine-spirit-education-trust-wset-level-2-march-2021/
LOCATION:QCWT\, 22 Caves Road\, Stanthorpe\, Qld\, 4380\, Australia
CATEGORIES:QCWT
ATTACH;FMTTYPE=image/jpeg:https://qcwt.com.au/wp-content/uploads/BR-Wines-2.jpg
ORGANIZER;CN="Peter%20Orr":MAILTO:peter.orr@usq.edu.au
END:VEVENT
END:VCALENDAR