BEGIN:VCALENDAR
VERSION:2.0
PRODID:-//Queensland College of Wine Tourism - ECPv5.0.2.1//NONSGML v1.0//EN
CALSCALE:GREGORIAN
METHOD:PUBLISH
X-WR-CALNAME:Queensland College of Wine Tourism
X-ORIGINAL-URL:https://qcwt.com.au
X-WR-CALDESC:Events for Queensland College of Wine Tourism
BEGIN:VTIMEZONE
TZID:Australia/Brisbane
BEGIN:STANDARD
TZOFFSETFROM:+1000
TZOFFSETTO:+1000
TZNAME:AEST
DTSTART:20190101T000000
END:STANDARD
END:VTIMEZONE
BEGIN:VEVENT
DTSTART;TZID=Australia/Brisbane:20191021T083000
DTEND;TZID=Australia/Brisbane:20191021T163000
DTSTAMP:20200301T230221
CREATED:20190805T010910Z
LAST-MODIFIED:20190805T010910Z
UID:15949-1571646600-1571675400@qcwt.com.au
SUMMARY:Wine & Spirit Education Trust WSET Level 1
DESCRIPTION: \nThis qualification is ideal for people who don’t know much about wine and are keen to learn to increase their employment opportunities\, or for their own personal interest. Employment opportunities where the WSET Level 1 Award in Wines would be very applicable include cafes and restaurants\, wine bars\, hotels and bottle shops. \n  \nWine tasting is offered to adult students as part of this program. Students who are under 18 years of age or do not taste wine for health or religious reasons may still complete course requirements and obtain the qualification. \n  \nPlease note the registration cut off date for this course is 7 October 2019. \n
URL:https://qcwt.com.au/event/wine-spirit-education-trust-wset-level-1-october-2019/
LOCATION:Brisbane (Venue TBC)
CATEGORIES:QCWT
ATTACH;FMTTYPE=image/jpeg:https://qcwt.com.au/wp-content/uploads/qwctstk0513_dm_181.jpg
ORGANIZER;CN="Peter%20Orr":MAILTO:peter.orr@usq.edu.au
END:VEVENT
END:VCALENDAR