BEGIN:VCALENDAR
VERSION:2.0
PRODID:-//Queensland College of Wine Tourism - ECPv5.0.2.1//NONSGML v1.0//EN
CALSCALE:GREGORIAN
METHOD:PUBLISH
X-WR-CALNAME:Queensland College of Wine Tourism
X-ORIGINAL-URL:https://qcwt.com.au
X-WR-CALDESC:Events for Queensland College of Wine Tourism
BEGIN:VTIMEZONE
TZID:Australia/Brisbane
BEGIN:STANDARD
TZOFFSETFROM:+1000
TZOFFSETTO:+1000
TZNAME:AEST
DTSTART:20190101T000000
END:STANDARD
END:VTIMEZONE
BEGIN:VEVENT
DTSTART;TZID=Australia/Brisbane:20191022T083000
DTEND;TZID=Australia/Brisbane:20191024T163000
DTSTAMP:20200301T230334
CREATED:20190805T011038Z
LAST-MODIFIED:20190805T011038Z
UID:15951-1571733000-1571934600@qcwt.com.au
SUMMARY:Wine & Spirit Education Trust WSET Level 2
DESCRIPTION: \nDo you want to take your wine knowledge to the next level?  The WSET Level 2 Award in Wines and Spirits qualification provides an industry standard introduction to the main styles of wines and spirits available to front-line staff involved in the service or sale of wine and spirits.  This qualification aims to provide the product knowledge and skills in the storage and service of wines required to prepare a person for employment in wine hospitality or retail. \nThis qualification is recognized internationally in over 55 countries.  Course topics include: \n\nFactors influencing style\nGrape varieties\nKey wine producing regions of the world\nSparkling wines\nSweet wines and fortified wines\nSpirits & liqueurs\nInformation & advice for customers & staff\nDescribing the characteristics of the principal wines of the world\n\nPlease note the cut off date for this course is 7 October 2019. \n
URL:https://qcwt.com.au/event/wine-spirit-education-trust-wset-level-2-october-2019/
LOCATION:Brisbane (Venue TBC)
CATEGORIES:QCWT
ATTACH;FMTTYPE=image/jpeg:https://qcwt.com.au/wp-content/uploads/BR-Wines-2.jpg
ORGANIZER;CN="Peter%20Orr":MAILTO:peter.orr@usq.edu.au
END:VEVENT
END:VCALENDAR